BEGIN:VCALENDAR
VERSION:2.0
PRODID:-//Squarespace Inc/Squarespace 6//v6//EN
BEGIN:VEVENT
UID:5f075e5ded03a802582ce458@squarespace.com
DTSTAMP:20200709T181433Z
DTSTART:20201103T130000Z
DTEND:20201103T220000Z
SUMMARY:ELECTION DAY
END:VEVENT
END:VCALENDAR
