BEGIN:VCALENDAR
VERSION:2.0
PRODID:-//Squarespace Inc/Squarespace 6//v6//EN
BEGIN:VEVENT
UID:5f075ea14286eb18b3910153@squarespace.com
DTSTAMP:20200709T181519Z
DTSTART:20201109T000000Z
DTEND:20201109T010000Z
SUMMARY:SNACK ATTACK
END:VEVENT
END:VCALENDAR
