BEGIN:VCALENDAR
VERSION:2.0
PRODID:-//Squarespace Inc/Squarespace 6//v6//EN
BEGIN:VEVENT
UID:5dbc86edb0ea0176a5947dbe@squarespace.com
DTSTAMP:20191101T192802Z
DTSTART:20200201T130000Z
DTEND:20200201T200000Z
SUMMARY:Solo &amp\; Ensemble Event 
END:VEVENT
END:VCALENDAR
