BEGIN:VCALENDAR
VERSION:2.0
PRODID:-//Squarespace Inc/Squarespace 6//v6//EN
BEGIN:VEVENT
UID:5da626fed56c306e6d9d0339@squarespace.com
DTSTAMP:20191015T200752Z
DTSTART:20200201T190000Z
DTEND:20200201T200000Z
SUMMARY:Women's Basketball Game (HOME)
END:VEVENT
END:VCALENDAR
