BEGIN:VCALENDAR
VERSION:2.0
PRODID:-//Squarespace Inc/Squarespace 6//v6//EN
BEGIN:VEVENT
UID:5e1e075236fe03405bf502b5@squarespace.com
DTSTAMP:20200114T182450Z
DTSTART:20200212T150000Z
DTEND:20200212T160000Z
SUMMARY:Blood Drive
END:VEVENT
END:VCALENDAR
