BEGIN:VCALENDAR
VERSION:2.0
PRODID:-//Squarespace Inc/Squarespace 6//v6//EN
BEGIN:VEVENT
UID:5da60de8f716f8795b4cf04d@squarespace.com
DTSTAMP:20200204T184958Z
DTSTART:20200214T003000Z
DTEND:20200214T013000Z
SUMMARY:Men's Basketball Game (HOME)
END:VEVENT
END:VCALENDAR
