BEGIN:VCALENDAR
VERSION:2.0
PRODID:-//Squarespace Inc/Squarespace 6//v6//EN
BEGIN:VEVENT
UID:5da6277ab942e26707062c30@squarespace.com
DTSTAMP:20191015T201003Z
DTSTART:20200213T223000Z
DTEND:20200213T233000Z
SUMMARY:Women's Basketball Game (HOME)
END:VEVENT
END:VCALENDAR
