BEGIN:VCALENDAR
VERSION:2.0
PRODID:-//Squarespace Inc/Squarespace 6//v6//EN
BEGIN:VEVENT
UID:5e39bc269234572a14da8a2b@squarespace.com
DTSTAMP:20200204T185027Z
DTSTART:20200214T190000Z
DTEND:20200214T200000Z
SUMMARY:Men's Wrestling (AWAY)
END:VEVENT
END:VCALENDAR
