BEGIN:VCALENDAR
VERSION:2.0
PRODID:-//Squarespace Inc/Squarespace 6//v6//EN
BEGIN:VEVENT
UID:5da60e230a941c7953960508@squarespace.com
DTSTAMP:20200204T181406Z
DTSTART:20200215T200000Z
DTEND:20200215T210000Z
SUMMARY:Men's Basketball Game (HOME)
END:VEVENT
END:VCALENDAR
