BEGIN:VCALENDAR
VERSION:2.0
PRODID:-//Squarespace Inc/Squarespace 6//v6//EN
BEGIN:VEVENT
UID:5da627a49adfc84c61c01211@squarespace.com
DTSTAMP:20191015T201038Z
DTSTART:20200215T180000Z
DTEND:20200215T190000Z
SUMMARY:Women's Basketball Game (HOME)
END:VEVENT
END:VCALENDAR
