BEGIN:VCALENDAR
VERSION:2.0
PRODID:-//Squarespace Inc/Squarespace 6//v6//EN
BEGIN:VEVENT
UID:5e39b02a77bb35514f36146f@squarespace.com
DTSTAMP:20200204T181343Z
DTSTART:20200320T180000Z
DTEND:20200320T190000Z
SUMMARY:Men's Baseball Game (AWAY)
END:VEVENT
END:VCALENDAR
