BEGIN:VCALENDAR
VERSION:2.0
PRODID:-//Squarespace Inc/Squarespace 6//v6//EN
BEGIN:VEVENT
UID:5da60e5a454f4070ba518eb5@squarespace.com
DTSTAMP:20191015T182305Z
DTSTART:20200221T003000Z
DTEND:20200221T013000Z
SUMMARY:Men's Basketball Game (AWAY)
END:VEVENT
END:VCALENDAR
