BEGIN:VCALENDAR
VERSION:2.0
PRODID:-//Squarespace Inc/Squarespace 6//v6//EN
BEGIN:VEVENT
UID:5e4feed7b635fb5505fa1602@squarespace.com
DTSTAMP:20200221T145410Z
DTSTART:20200221T230000Z
DTEND:20200222T000000Z
SUMMARY:Baseball Leadoff Dinner 2020
END:VEVENT
END:VCALENDAR
