BEGIN:VCALENDAR
VERSION:2.0
PRODID:-//Squarespace Inc/Squarespace 6//v6//EN
BEGIN:VEVENT
UID:5e39bc5aaefcab3e4f287c82@squarespace.com
DTSTAMP:20200204T184841Z
DTSTART:20200221T190000Z
DTEND:20200221T200000Z
SUMMARY:Men's Wrestling (AWAY)
END:VEVENT
END:VCALENDAR
