BEGIN:VCALENDAR
VERSION:2.0
PRODID:-//Squarespace Inc/Squarespace 6//v6//EN
BEGIN:VEVENT
UID:5e39b059d0acb131d747ac81@squarespace.com
DTSTAMP:20200204T175802Z
DTSTART:20200222T230000Z
DTEND:20200223T000000Z
SUMMARY:Men's Baseball Game (AWAY)
END:VEVENT
END:VCALENDAR
