BEGIN:VCALENDAR
VERSION:2.0
PRODID:-//Squarespace Inc/Squarespace 6//v6//EN
BEGIN:VEVENT
UID:5da627c7b942e26707063533@squarespace.com
DTSTAMP:20191015T201158Z
DTSTART:20200222T180000Z
DTEND:20200222T190000Z
SUMMARY:Women's Basketball Game (AWAY)
END:VEVENT
END:VCALENDAR
