BEGIN:VCALENDAR
VERSION:2.0
PRODID:-//Squarespace Inc/Squarespace 6//v6//EN
BEGIN:VEVENT
UID:5da60e90f96397077b2c376e@squarespace.com
DTSTAMP:20191015T182338Z
DTSTART:20200227T003000Z
DTEND:20200227T013000Z
SUMMARY:Men's Basketball Game (AWAY)
END:VEVENT
END:VCALENDAR
