BEGIN:VCALENDAR
VERSION:2.0
PRODID:-//Squarespace Inc/Squarespace 6//v6//EN
BEGIN:VEVENT
UID:5da6281593569927fe6c2371@squarespace.com
DTSTAMP:20191015T201235Z
DTSTART:20200226T221500Z
DTEND:20200226T231500Z
SUMMARY:Women's Basketball Game (AWAY)
END:VEVENT
END:VCALENDAR
