BEGIN:VCALENDAR
VERSION:2.0
PRODID:-//Squarespace Inc/Squarespace 6//v6//EN
BEGIN:VEVENT
UID:5e1e07821223462e59cbd304@squarespace.com
DTSTAMP:20200114T182522Z
DTSTART:20200227T220000Z
DTEND:20200227T230000Z
SUMMARY:Black History Dinner
END:VEVENT
END:VCALENDAR
