BEGIN:VCALENDAR
VERSION:2.0
PRODID:-//Squarespace Inc/Squarespace 6//v6//EN
BEGIN:VEVENT
UID:5e39b3fbc86336372c7800b6@squarespace.com
DTSTAMP:20200204T181448Z
DTSTART:20200327T200000Z
DTEND:20200327T210000Z
SUMMARY:Men's Baseball Game (AWAY)
END:VEVENT
END:VCALENDAR
