BEGIN:VCALENDAR
VERSION:2.0
PRODID:-//Squarespace Inc/Squarespace 6//v6//EN
BEGIN:VEVENT
UID:5e39b0b5e5c7b532f0e3834e@squarespace.com
DTSTAMP:20200204T175850Z
DTSTART:20200228T190000Z
DTEND:20200228T200000Z
SUMMARY:Men's Baseball Game (AWAY)
END:VEVENT
END:VCALENDAR
