BEGIN:VCALENDAR
VERSION:2.0
PRODID:-//Squarespace Inc/Squarespace 6//v6//EN
BEGIN:VEVENT
UID:5e4bfd4579fe5b341b849227@squarespace.com
DTSTAMP:20200218T150616Z
DTSTART:20200301T013000Z
DTEND:20200301T023000Z
SUMMARY:5th Quarter Party
END:VEVENT
END:VCALENDAR
