BEGIN:VCALENDAR
VERSION:2.0
PRODID:-//Squarespace Inc/Squarespace 6//v6//EN
BEGIN:VEVENT
UID:5e39b0e1b74b4822a82bb9bd@squarespace.com
DTSTAMP:20200204T175954Z
DTSTART:20200229T180000Z
DTEND:20200229T190000Z
SUMMARY:Men's Baseball Game (AWAY)
END:VEVENT
END:VCALENDAR
