BEGIN:VCALENDAR
VERSION:2.0
PRODID:-//Squarespace Inc/Squarespace 6//v6//EN
BEGIN:VEVENT
UID:5da60eb2743cda064dc00590@squarespace.com
DTSTAMP:20191015T182455Z
DTSTART:20200229T200000Z
DTEND:20200229T210000Z
SUMMARY:Men's Basketball Game (HOME)
END:VEVENT
END:VCALENDAR
