BEGIN:VCALENDAR
VERSION:2.0
PRODID:-//Squarespace Inc/Squarespace 6//v6//EN
BEGIN:VEVENT
UID:5da6283a6231022a346e3e59@squarespace.com
DTSTAMP:20191015T201308Z
DTSTART:20200229T180000Z
DTEND:20200229T190000Z
SUMMARY:Women's Basketball Game (HOME)
END:VEVENT
END:VCALENDAR
