BEGIN:VCALENDAR
VERSION:2.0
PRODID:-//Squarespace Inc/Squarespace 6//v6//EN
BEGIN:VEVENT
UID:5da6271f15bfdf179a2a1212@squarespace.com
DTSTAMP:20191015T200825Z
DTSTART:20200203T223000Z
DTEND:20200203T233000Z
SUMMARY:Women's Basketball Game (AWAY)
END:VEVENT
END:VCALENDAR
