BEGIN:VCALENDAR
VERSION:2.0
PRODID:-//Squarespace Inc/Squarespace 6//v6//EN
BEGIN:VEVENT
UID:5da60d8d7aadb3023c5f5f11@squarespace.com
DTSTAMP:20191015T181925Z
DTSTART:20200207T010000Z
DTEND:20200207T020000Z
SUMMARY:Men's Basketball Game (AWAY)
END:VEVENT
END:VCALENDAR
