BEGIN:VCALENDAR
VERSION:2.0
PRODID:-//Squarespace Inc/Squarespace 6//v6//EN
BEGIN:VEVENT
UID:5e39bbb5a7bdb768e3394125@squarespace.com
DTSTAMP:20200204T184547Z
DTSTART:20200206T190000Z
DTEND:20200206T200000Z
SUMMARY:Men's Wrestling (AWAY)
END:VEVENT
END:VCALENDAR
