BEGIN:VCALENDAR
VERSION:2.0
PRODID:-//Squarespace Inc/Squarespace 6//v6//EN
BEGIN:VEVENT
UID:5da627419adfc84c61c006b3@squarespace.com
DTSTAMP:20191015T200854Z
DTSTART:20200206T230000Z
DTEND:20200207T000000Z
SUMMARY:Women's Basketball Game (AWAY)
END:VEVENT
END:VCALENDAR
