BEGIN:VCALENDAR
VERSION:2.0
PRODID:-//Squarespace Inc/Squarespace 6//v6//EN
BEGIN:VEVENT
UID:5e39af82fb34fc1cb3414398@squarespace.com
DTSTAMP:20200204T175515Z
DTSTART:20200207T210000Z
DTEND:20200207T220000Z
SUMMARY:Men's Baseball Game (AWAY)
END:VEVENT
END:VCALENDAR
