BEGIN:VCALENDAR
VERSION:2.0
PRODID:-//Squarespace Inc/Squarespace 6//v6//EN
BEGIN:VEVENT
UID:5e39b00bca82547d0c362c86@squarespace.com
DTSTAMP:20200204T175546Z
DTSTART:20200208T180000Z
DTEND:20200208T190000Z
SUMMARY:Men's Baseball Game (AWAY)
END:VEVENT
END:VCALENDAR
