BEGIN:VCALENDAR
VERSION:2.0
PRODID:-//Squarespace Inc/Squarespace 6//v6//EN
BEGIN:VEVENT
UID:5da60db457a5b400b774dba3@squarespace.com
DTSTAMP:20191015T182015Z
DTSTART:20200208T200000Z
DTEND:20200208T210000Z
SUMMARY:Men's Basketball Game (AWAY)
END:VEVENT
END:VCALENDAR
