BEGIN:VCALENDAR
VERSION:2.0
PRODID:-//Squarespace Inc/Squarespace 6//v6//EN
BEGIN:VEVENT
UID:5e1e0733e8866572ae7cd53e@squarespace.com
DTSTAMP:20200114T182404Z
DTSTART:20200208T220000Z
DTEND:20200208T230000Z
SUMMARY:Sweetheart Dinner
END:VEVENT
END:VCALENDAR
