BEGIN:VCALENDAR
VERSION:2.0
PRODID:-//Squarespace Inc/Squarespace 6//v6//EN
BEGIN:VEVENT
UID:5da6275ed56c306e6d9d1000@squarespace.com
DTSTAMP:20191015T200923Z
DTSTART:20200208T180000Z
DTEND:20200208T190000Z
SUMMARY:Women's Basketball Game (AWAY)
END:VEVENT
END:VCALENDAR
