BEGIN:VCALENDAR
VERSION:2.0
PRODID:-//Squarespace Inc/Squarespace 6//v6//EN
BEGIN:VEVENT
UID:5e39b1b52156d43c562e28a9@squarespace.com
DTSTAMP:20200204T180605Z
DTSTART:20200310T170000Z
DTEND:20200310T180000Z
SUMMARY:Men's Baseball Game (HOME)
END:VEVENT
END:VCALENDAR
