BEGIN:VCALENDAR
VERSION:2.0
PRODID:-//Squarespace Inc/Squarespace 6//v6//EN
BEGIN:VEVENT
UID:5e39b296a8c4ec2fbd7a2c9d@squarespace.com
DTSTAMP:20200204T181006Z
DTSTART:20200313T160000Z
DTEND:20200313T170000Z
SUMMARY:Men's Baseball Game (HOME)
END:VEVENT
END:VCALENDAR
