BEGIN:VCALENDAR
VERSION:2.0
PRODID:-//Squarespace Inc/Squarespace 6//v6//EN
BEGIN:VEVENT
UID:5e39b38641c9d04afaaee1a7@squarespace.com
DTSTAMP:20200204T181047Z
DTSTART:20200314T160000Z
DTEND:20200314T170000Z
SUMMARY:Men's Baseball Game (HOME)
END:VEVENT
END:VCALENDAR
