BEGIN:VCALENDAR
VERSION:2.0
PRODID:-//Squarespace Inc/Squarespace 6//v6//EN
BEGIN:VEVENT
UID:5e1e067aad46841a7e80f9a4@squarespace.com
DTSTAMP:20200114T182144Z
DTSTART:20200317T010000Z
DTEND:20200318T010000Z
SUMMARY:Inter. Women's Art Display
END:VEVENT
END:VCALENDAR
