BEGIN:VCALENDAR
VERSION:2.0
PRODID:-//Squarespace Inc/Squarespace 6//v6//EN
BEGIN:VEVENT
UID:5e2208421c69b77cd45a2cde@squarespace.com
DTSTAMP:20200117T191740Z
DTSTART:20200318T120000Z
DTEND:20200318T130000Z
SUMMARY:Fall/Summer Registration Begins
END:VEVENT
END:VCALENDAR
