BEGIN:VCALENDAR
VERSION:2.0
PRODID:-//Squarespace Inc/Squarespace 6//v6//EN
BEGIN:VEVENT
UID:5e39b3bc2b18d575fc8d94c8@squarespace.com
DTSTAMP:20200204T181133Z
DTSTART:20200321T170000Z
DTEND:20200321T180000Z
SUMMARY:Men's Baseball Game (AWAY)
END:VEVENT
END:VCALENDAR
