BEGIN:VCALENDAR
VERSION:2.0
PRODID:-//Squarespace Inc/Squarespace 6//v6//EN
BEGIN:VEVENT
UID:5e39b3dfc86336372c77f55d@squarespace.com
DTSTAMP:20200204T181202Z
DTSTART:20200322T170000Z
DTEND:20200322T180000Z
SUMMARY:Men's Baseball Game (AWAY)
END:VEVENT
END:VCALENDAR
