BEGIN:VCALENDAR
VERSION:2.0
PRODID:-//Squarespace Inc/Squarespace 6//v6//EN
BEGIN:VEVENT
UID:5e1e07c892b889051701c751@squarespace.com
DTSTAMP:20200114T182636Z
DTSTART:20200323T130000Z
DTEND:20200323T140000Z
SUMMARY:World Thinking Day
END:VEVENT
END:VCALENDAR
