BEGIN:VCALENDAR
VERSION:2.0
PRODID:-//Squarespace Inc/Squarespace 6//v6//EN
BEGIN:VEVENT
UID:5e220865c2ab31059e15fc19@squarespace.com
DTSTAMP:20200117T191807Z
DTSTART:20200327T120000Z
DTEND:20200327T130000Z
SUMMARY:Encounter
END:VEVENT
END:VCALENDAR
