BEGIN:VCALENDAR
VERSION:2.0
PRODID:-//Squarespace Inc/Squarespace 6//v6//EN
BEGIN:VEVENT
UID:5e2205d3b9bd975476f2772e@squarespace.com
DTSTAMP:20200205T214053Z
DTSTART:20200326T230000Z
DTEND:20200329T000000Z
SUMMARY:Expressions
END:VEVENT
END:VCALENDAR
