BEGIN:VCALENDAR
VERSION:2.0
PRODID:-//Squarespace Inc/Squarespace 6//v6//EN
BEGIN:VEVENT
UID:5e39b4a9d92edf188d2b65d6@squarespace.com
DTSTAMP:20200204T181535Z
DTSTART:20200328T173000Z
DTEND:20200328T183000Z
SUMMARY:Men's Baseball Game (AWAY)
END:VEVENT
END:VCALENDAR
