BEGIN:VCALENDAR
VERSION:2.0
PRODID:-//Squarespace Inc/Squarespace 6//v6//EN
BEGIN:VEVENT
UID:5e1e07a14110974fbd8074b9@squarespace.com
DTSTAMP:20200114T182555Z
DTSTART:20200303T150000Z
DTEND:20200303T160000Z
SUMMARY:Ladies of OVU Tea
END:VEVENT
END:VCALENDAR
