BEGIN:VCALENDAR
VERSION:2.0
PRODID:-//Squarespace Inc/Squarespace 6//v6//EN
BEGIN:VEVENT
UID:5e39b4e054f2ee58b2cf30ac@squarespace.com
DTSTAMP:20200204T181639Z
DTSTART:20200331T190000Z
DTEND:20200331T200000Z
SUMMARY:Men's Baseball Game (HOME)
END:VEVENT
END:VCALENDAR
