BEGIN:VCALENDAR
VERSION:2.0
PRODID:-//Squarespace Inc/Squarespace 6//v6//EN
BEGIN:VEVENT
UID:5e39b122fb34fc1cb341c11c@squarespace.com
DTSTAMP:20200204T180214Z
DTSTART:20200306T180000Z
DTEND:20200306T190000Z
SUMMARY:Men's Baseball Game (AWAY)
END:VEVENT
END:VCALENDAR
