BEGIN:VCALENDAR
VERSION:2.0
PRODID:-//Squarespace Inc/Squarespace 6//v6//EN
BEGIN:VEVENT
UID:5e2207905609b67a97853d86@squarespace.com
DTSTAMP:20200117T191509Z
DTSTART:20200306T210000Z
DTEND:20200306T220000Z
SUMMARY:Mid-Term Grades Due
END:VEVENT
END:VCALENDAR
