BEGIN:VCALENDAR
VERSION:2.0
PRODID:-//Squarespace Inc/Squarespace 6//v6//EN
BEGIN:VEVENT
UID:5dbc87aa2a20dc0b0b8169fb@squarespace.com
DTSTAMP:20191101T193146Z
DTSTART:20200309T120000Z
DTEND:20200314T000000Z
SUMMARY:Spring Break
END:VEVENT
END:VCALENDAR
